BEGIN:VCALENDAR
VERSION:2.0
PRODID:typo3/eventnews/icalendar-generator
BEGIN:VEVENT
UID:www.hfjs.eu/news-909
DTSTAMP:20260422T100152Z
SUMMARY:Kalte Küche
DESCRIPTION:Die Mensa schließt an mehreren Tagen
DTSTART:20260422T115941
END:VEVENT
END:VCALENDAR