BEGIN:VCALENDAR
VERSION:2.0
PRODID:typo3/eventnews/icalendar-generator
BEGIN:VEVENT
UID:www.hfjs.eu/news-906
DTSTAMP:20260421T104505Z
SUMMARY:Das Forschungskolloquium im Sommersemester
DESCRIPTION:Die Jüdischen Studien in all ihrer Vielfalt
DTSTART:20260421T124243
END:VEVENT
END:VCALENDAR