BEGIN:VCALENDAR
VERSION:2.0
PRODID:typo3/eventnews/icalendar-generator
BEGIN:VEVENT
UID:www.hfjs.eu/news-906
DTSTAMP:20260421T104527Z
SUMMARY:The Research Colloquium in the Summer Semester
DESCRIPTION:Jewish Studies in all its diversity
DTSTART:20260421T124243
END:VEVENT
END:VCALENDAR